BEGIN:VCALENDAR
VERSION:2.0
PRODID:-//Club D&#039;Échecs de Muzillac - ECPv6.3.7//NONSGML v1.0//EN
CALSCALE:GREGORIAN
METHOD:PUBLISH
X-ORIGINAL-URL:https://echecsmuzillac.fr
X-WR-CALDESC:évènements pour Club D&#039;Échecs de Muzillac
REFRESH-INTERVAL;VALUE=DURATION:PT1H
X-Robots-Tag:noindex
X-PUBLISHED-TTL:PT1H
BEGIN:VTIMEZONE
TZID:UTC
BEGIN:STANDARD
TZOFFSETFROM:+0000
TZOFFSETTO:+0000
TZNAME:UTC
DTSTART:20220101T000000
END:STANDARD
END:VTIMEZONE
BEGIN:VEVENT
DTSTART;TZID=UTC:20220804T180000
DTEND;TZID=UTC:20220804T190000
DTSTAMP:20260420T054453
CREATED:20220613T141341Z
LAST-MODIFIED:20250830T135446Z
UID:328-1659636000-1659639600@echecsmuzillac.fr
SUMMARY:Les Jeudis de l’Été
DESCRIPTION:Dans le cadre des Jeudis de l’Été\, Le Club d’Échecs de Muzillac\, en partenariat avec la Ville de Muzillac et le Service Animation Culturelle\, jouera en plein air et invite tous ceux\, débutants ou confirmés\, à venir apprendre ou jouer aux Echecs sur la Place Saint Julien de 18h à 19h et plus si affinités. \nhttps://www.muzillac.fr/category/culture/vieux-couvent/jeudis-ete/http://echecs.asso.fr/Actu.aspx?Ref=13470
URL:https://echecsmuzillac.fr/event/les-jeudis-de-lete-3
CATEGORIES:Championnat Inter Club
ATTACH;FMTTYPE=image/png:https://echecsmuzillac.fr/wp-content/uploads/2022/06/Screenshot_20220613-1547062.png
END:VEVENT
END:VCALENDAR